

BEGIN:VCALENDAR
VERSION:2.0
PRODID:-//UDC Suisse //NONSGML Events //EN
CALSCALE:GREGORIAN
X-WR-CALNAME:UDC Suisse
BEGIN:VEVENT
CREATED:20220726T064140Z
UID:98932
DTEND:20220801T170000
DTSTART:20220801T160000
DTSTAMP:20260421T112634Z
LOCATION:9642 Ebnat-Kappel / im Haus der Freiheit
DESCRIPTION:avec réservation
SUMMARY:Fête du 1er août avec Conseillère nationale Esther Friedli
ORGANIZER:
URL;VALUE=URI:https://www.udc.ch/actualites/agenda/fete-du-1er-aout-avec-conseillere-nationale-esther-friedli-3/
TRANSP:OPAQUE
END:VEVENT
END:VCALENDAR
