

BEGIN:VCALENDAR
VERSION:2.0
PRODID:-//UDC Suisse //NONSGML Events //EN
CALSCALE:GREGORIAN
X-WR-CALNAME:UDC Suisse
BEGIN:VEVENT
CREATED:20220726T064140Z
UID:98933
DTEND:20220731T210000
DTSTART:20220731T200000
DTSTAMP:20260420T191402Z
LOCATION:3772 St. Stephan / Schulhaus Moos
DESCRIPTION:
SUMMARY:Fête du 1er août avec Conseiller national Andreas Gafner
ORGANIZER:
URL;VALUE=URI:https://www.udc.ch/actualites/agenda/fete-du-1er-aout-avec-conseiller-national-andreas-gafner/
TRANSP:OPAQUE
END:VEVENT
END:VCALENDAR
