

BEGIN:VCALENDAR
VERSION:2.0
PRODID:-//UDC Suisse //NONSGML Events //EN
CALSCALE:GREGORIAN
X-WR-CALNAME:UDC Suisse
BEGIN:VEVENT
CREATED:20220726T064141Z
UID:98936
DTEND:20220801T190000
DTSTART:20220801T184500
DTSTAMP:20260420T193955Z
LOCATION:5033 Buchs AG / Vorplatz Gemeindesaal Buchs
DESCRIPTION:
SUMMARY:Fête du 1er août avec Conseiller national Benjamin Giezendanner
ORGANIZER:
URL;VALUE=URI:https://www.udc.ch/actualites/agenda/fete-du-1er-aout-avec-conseiller-national-benjamin-giezendanner/
TRANSP:OPAQUE
END:VEVENT
END:VCALENDAR
