

BEGIN:VCALENDAR
VERSION:2.0
PRODID:-//UDC Suisse //NONSGML Events //EN
CALSCALE:GREGORIAN
X-WR-CALNAME:UDC Suisse
BEGIN:VEVENT
CREATED:20220726T064141Z
UID:98937
DTEND:20220801T190000
DTSTART:20220801T183000
DTSTAMP:20260420T172200Z
LOCATION:3273 Kappelen / Mehrzweckanlage Kappelen
DESCRIPTION:
SUMMARY:Fête du 1er août avec Conseiller national Lars Guggisberg
ORGANIZER:
URL;VALUE=URI:https://www.udc.ch/actualites/agenda/fete-du-1er-aout-avec-conseiller-national-lars-guggisberg/
TRANSP:OPAQUE
END:VEVENT
END:VCALENDAR
