

BEGIN:VCALENDAR
VERSION:2.0
PRODID:-//UDC Suisse //NONSGML Events //EN
CALSCALE:GREGORIAN
X-WR-CALNAME:UDC Suisse
BEGIN:VEVENT
CREATED:20220726T064141Z
UID:98938
DTEND:20220731T210000
DTSTART:20220731T200000
DTSTAMP:20260420T214015Z
LOCATION:8264 Eschenz / Buebebadi
DESCRIPTION:
SUMMARY:Fête du 1er août avec Conseillère nationale Diana Gutjahr
ORGANIZER:
URL;VALUE=URI:https://www.udc.ch/actualites/agenda/fete-du-1er-aout-avec-conseillere-nationale-diana-gutjahr/
TRANSP:OPAQUE
END:VEVENT
END:VCALENDAR
