

BEGIN:VCALENDAR
VERSION:2.0
PRODID:-//UDC Suisse //NONSGML Events //EN
CALSCALE:GREGORIAN
X-WR-CALNAME:UDC Suisse
BEGIN:VEVENT
CREATED:20220726T064141Z
UID:98939
DTEND:20220801T140000
DTSTART:20220801T133000
DTSTAMP:20260420T194630Z
LOCATION:9215 Kradolf/Schönenberg an der Thur TG / Festgelände der Primarschule in Kradolf
DESCRIPTION:
SUMMARY:Fête du 1er août avec Conseillère nationale Diana Gutjahr
ORGANIZER:
URL;VALUE=URI:https://www.udc.ch/actualites/agenda/fete-du-1er-aout-avec-conseillere-nationale-diana-gutjahr-2/
TRANSP:OPAQUE
END:VEVENT
END:VCALENDAR
