

BEGIN:VCALENDAR
VERSION:2.0
PRODID:-//UDC Suisse //NONSGML Events //EN
CALSCALE:GREGORIAN
X-WR-CALNAME:UDC Suisse
BEGIN:VEVENT
CREATED:20220726T064142Z
UID:98942
DTEND:20220801T190000
DTSTART:20220801T180000
DTSTAMP:20260420T214054Z
LOCATION:4232 Fehren 
DESCRIPTION:avec réservation
SUMMARY:Fête du 1er août avec Conseiller national Christian Imark
ORGANIZER:
URL;VALUE=URI:https://www.udc.ch/actualites/agenda/fete-du-1er-aout-avec-conseiller-national-christian-imark/
TRANSP:OPAQUE
END:VEVENT
END:VCALENDAR
