

BEGIN:VCALENDAR
VERSION:2.0
PRODID:-//UDC Suisse //NONSGML Events //EN
CALSCALE:GREGORIAN
X-WR-CALNAME:UDC Suisse
BEGIN:VEVENT
CREATED:20220726T064142Z
UID:98943
DTEND:20220801T220000
DTSTART:20220801T210000
DTSTAMP:20260420T213549Z
LOCATION:5210 Windisch / im Amphitheater
DESCRIPTION:
SUMMARY:Fête du 1er août avec Conseiller aux Etats Hansjörg Knecht
ORGANIZER:
URL;VALUE=URI:https://www.udc.ch/actualites/agenda/fete-du-1er-aout-avec-conseiller-aux-etats-hansjorg-knecht/
TRANSP:OPAQUE
END:VEVENT
END:VCALENDAR
