

BEGIN:VCALENDAR
VERSION:2.0
PRODID:-//UDC Suisse //NONSGML Events //EN
CALSCALE:GREGORIAN
X-WR-CALNAME:UDC Suisse
BEGIN:VEVENT
CREATED:20220726T064142Z
UID:98944
DTEND:20220801T110000
DTSTART:20220801T103000
DTSTAMP:20260420T194513Z
LOCATION:8957 Spreitenbach / Gemeindehausplatz
DESCRIPTION:
SUMMARY:Fête du 1er août avec Conseiller national Roger Köppel
ORGANIZER:
URL;VALUE=URI:https://www.udc.ch/actualites/agenda/fete-du-1er-aout-avec-conseiller-national-roger-koppel/
TRANSP:OPAQUE
END:VEVENT
END:VCALENDAR
