

BEGIN:VCALENDAR
VERSION:2.0
PRODID:-//UDC Suisse //NONSGML Events //EN
CALSCALE:GREGORIAN
X-WR-CALNAME:UDC Suisse
BEGIN:VEVENT
CREATED:20220726T064143Z
UID:98945
DTEND:20220801T190000
DTSTART:20220801T180000
DTSTAMP:20260420T213420Z
LOCATION:5073 Gipf-Oberfrick / Werkhof Moosmatt
DESCRIPTION:
SUMMARY:Fête du 1er août avec Conseiller national Roger Köppel
ORGANIZER:
URL;VALUE=URI:https://www.udc.ch/actualites/agenda/fete-du-1er-aout-avec-conseiller-national-roger-koppel-2/
TRANSP:OPAQUE
END:VEVENT
END:VCALENDAR
