

BEGIN:VCALENDAR
VERSION:2.0
PRODID:-//UDC Suisse //NONSGML Events //EN
CALSCALE:GREGORIAN
X-WR-CALNAME:UDC Suisse
BEGIN:VEVENT
CREATED:20220726T064143Z
UID:98948
DTEND:20220801T220000
DTSTART:20220801T213000
DTSTAMP:20260420T212722Z
LOCATION:6997 Sessa (Comune di Tresa) (TI) / Festa del Comune di Tresa
DESCRIPTION:
SUMMARY:Fête du 1er août avec Conseiller national Piero Marchesi
ORGANIZER:
URL;VALUE=URI:https://www.udc.ch/actualites/agenda/fete-du-1er-aout-avec-conseiller-national-piero-marchesi-2/
TRANSP:OPAQUE
END:VEVENT
END:VCALENDAR
