

BEGIN:VCALENDAR
VERSION:2.0
PRODID:-//UDC Suisse //NONSGML Events //EN
CALSCALE:GREGORIAN
X-WR-CALNAME:UDC Suisse
BEGIN:VEVENT
CREATED:20220726T064144Z
UID:98949
DTEND:20220801T180000
DTSTART:20220801T173000
DTSTAMP:20260420T134657Z
LOCATION:7165 Breil/Brigels / Beim Badesee (neben Pradas Resort)
DESCRIPTION:
SUMMARY:Fête du 1er août avec Conseillère nationale Magdalena Martullo-Blocher
ORGANIZER:
URL;VALUE=URI:https://www.udc.ch/actualites/agenda/fete-du-1er-aout-avec-conseillere-nationale-magdalena-martullo-blocher/
TRANSP:OPAQUE
END:VEVENT
END:VCALENDAR
