

BEGIN:VCALENDAR
VERSION:2.0
PRODID:-//UDC Suisse //NONSGML Events //EN
CALSCALE:GREGORIAN
X-WR-CALNAME:UDC Suisse
BEGIN:VEVENT
CREATED:20220726T064144Z
UID:98950
DTEND:20220801T100000
DTSTART:20220801T090000
DTSTAMP:20260420T194526Z
LOCATION:9500 Will / im Toggistübli
DESCRIPTION:réservation au 071 565 71 60 toggistuebli@thurweb.ch
SUMMARY:Fête du 1er août avec Conseiller national Lukas Reimann
ORGANIZER:
URL;VALUE=URI:https://www.udc.ch/actualites/agenda/fete-du-1er-aout-avec-conseiller-national-lukas-reimann/
TRANSP:OPAQUE
END:VEVENT
END:VCALENDAR
