

BEGIN:VCALENDAR
VERSION:2.0
PRODID:-//UDC Suisse //NONSGML Events //EN
CALSCALE:GREGORIAN
X-WR-CALNAME:UDC Suisse
BEGIN:VEVENT
CREATED:20220726T064144Z
UID:98952
DTEND:20220801T200000
DTSTART:20220801T190000
DTSTAMP:20260420T194652Z
LOCATION:4938 Oberbipp / Schulhausareal
DESCRIPTION:
SUMMARY:Fête du 1er août avec Conseiller aux Etats Werner Salzmann
ORGANIZER:
URL;VALUE=URI:https://www.udc.ch/actualites/agenda/fete-du-1er-aout-avec-conseiller-aux-etats-werner-salzmann-2/
TRANSP:OPAQUE
END:VEVENT
END:VCALENDAR
