

BEGIN:VCALENDAR
VERSION:2.0
PRODID:-//UDC Suisse //NONSGML Events //EN
CALSCALE:GREGORIAN
X-WR-CALNAME:UDC Suisse
BEGIN:VEVENT
CREATED:20220726T064145Z
UID:98953
DTEND:20220801T210000
DTSTART:20220801T200000
DTSTAMP:20260420T193838Z
LOCATION:8265 Mammern / Klinik Schloss Mammern
DESCRIPTION:
SUMMARY:Fête du 1er août avec Conseiller aux EtatsJakob Stark
ORGANIZER:
URL;VALUE=URI:https://www.udc.ch/actualites/agenda/fete-du-1er-aout-avec-conseiller-aux-etatsjakob-stark/
TRANSP:OPAQUE
END:VEVENT
END:VCALENDAR
