

BEGIN:VCALENDAR
VERSION:2.0
PRODID:-//UDC Suisse //NONSGML Events //EN
CALSCALE:GREGORIAN
X-WR-CALNAME:UDC Suisse
BEGIN:VEVENT
CREATED:20220726T064145Z
UID:98954
DTEND:20220731T200000
DTSTART:20220731T193000
DTSTAMP:20260420T225253Z
LOCATION:9542 Münchwilen / Gemeinde Münchwilen
DESCRIPTION:
SUMMARY:Fête du 1er août avec Conseiller national Manuel Strupler
ORGANIZER:
URL;VALUE=URI:https://www.udc.ch/actualites/agenda/fete-du-1er-aout-avec-conseiller-national-manuel-strupler/
TRANSP:OPAQUE
END:VEVENT
END:VCALENDAR
