

BEGIN:VCALENDAR
VERSION:2.0
PRODID:-//UDC Suisse //NONSGML Events //EN
CALSCALE:GREGORIAN
X-WR-CALNAME:UDC Suisse
BEGIN:VEVENT
CREATED:20220726T064145Z
UID:98955
DTEND:20220801T190000
DTSTART:20220801T180000
DTSTAMP:20260420T212743Z
LOCATION:8535 Herdern / Schützenhaus Berghof
DESCRIPTION:
SUMMARY:Fête du 1er août avec Conseiller national Manuel Strupler
ORGANIZER:
URL;VALUE=URI:https://www.udc.ch/actualites/agenda/fete-du-1er-aout-avec-conseiller-national-manuel-strupler-2/
TRANSP:OPAQUE
END:VEVENT
END:VCALENDAR
