

BEGIN:VCALENDAR
VERSION:2.0
PRODID:-//UDC Suisse //NONSGML Events //EN
CALSCALE:GREGORIAN
X-WR-CALNAME:UDC Suisse
BEGIN:VEVENT
CREATED:20220726T064145Z
UID:98956
DTEND:20220801T120000
DTSTART:20220801T110000
DTSTAMP:20260421T131602Z
LOCATION:4013 Niedergösgen / beim Schulhaus
DESCRIPTION:
SUMMARY:Fête du 1er août avec Conseiller national Walter Wobmann
ORGANIZER:
URL;VALUE=URI:https://www.udc.ch/actualites/agenda/fete-du-1er-aout-avec-conseiller-national-walter-wobmann/
TRANSP:OPAQUE
END:VEVENT
END:VCALENDAR
