

BEGIN:VCALENDAR
VERSION:2.0
PRODID:-//UDC Suisse //NONSGML Events //EN
CALSCALE:GREGORIAN
X-WR-CALNAME:UDC Suisse
BEGIN:VEVENT
CREATED:20220726T064146Z
UID:98957
DTEND:20220801T160000
DTSTART:20220801T150000
DTSTAMP:20260421T061253Z
LOCATION:4252 Bärschwil / beim Schulhaus
DESCRIPTION:
SUMMARY:Fête du 1er août avec Conseiller national Walter Wobmann
ORGANIZER:
URL;VALUE=URI:https://www.udc.ch/actualites/agenda/fete-du-1er-aout-avec-conseiller-national-walter-wobmann-2/
TRANSP:OPAQUE
END:VEVENT
END:VCALENDAR
