

BEGIN:VCALENDAR
VERSION:2.0
PRODID:-//UDC Suisse //NONSGML Events //EN
CALSCALE:GREGORIAN
X-WR-CALNAME:UDC Suisse
BEGIN:VEVENT
CREATED:20220726T064146Z
UID:98959
DTEND:20220801T100000
DTSTART:20220801T093000
DTSTAMP:20260420T214159Z
LOCATION:8200 Schaffhausen / Fronwagplatz\, bei schlechtem/unsicherem Wetter in der Kirche St. Johann Schaffhausen
DESCRIPTION:RegioInfo Tel. Nr. 1600 gibt spätestens ab 31. Juli 2022, 12.00 Uhr, 
SUMMARY:Fête du 1er août avec anc. Conseiller fédéral Christoph Blocher
ORGANIZER:
URL;VALUE=URI:https://www.udc.ch/actualites/agenda/fete-du-1er-aout-avec-anc-conseiller-federal-christoph-blocher/
TRANSP:OPAQUE
END:VEVENT
END:VCALENDAR
