

BEGIN:VCALENDAR
VERSION:2.0
PRODID:-//UDC Suisse //NONSGML Events //EN
CALSCALE:GREGORIAN
X-WR-CALNAME:UDC Suisse
BEGIN:VEVENT
CREATED:20220726T064146Z
UID:98960
DTEND:20220801T120000
DTSTART:20220801T110000
DTSTAMP:20260420T214122Z
LOCATION:8305 Dietlikon / Dorfplatz
DESCRIPTION:si mauvais temps : Saal Fadacher
SUMMARY:Fête du 1er août avec Conseiller fédéral Ueli Maurer
ORGANIZER:
URL;VALUE=URI:https://www.udc.ch/actualites/agenda/fete-du-1er-aout-avec-conseiller-federal-ueli-maurer/
TRANSP:OPAQUE
END:VEVENT
END:VCALENDAR
