

BEGIN:VCALENDAR
VERSION:2.0
PRODID:-//UDC Suisse //NONSGML Events //EN
CALSCALE:GREGORIAN
X-WR-CALNAME:UDC Suisse
BEGIN:VEVENT
CREATED:20220726T064147Z
UID:98963
DTEND:20220801T100000
DTSTART:20220801T093000
DTSTAMP:20260421T062353Z
LOCATION:3999 Oberwald (VS) / Hofbeiz Bürli-Schiirli
DESCRIPTION:avec réservation bauernhof-wallis@bluewin.ch
SUMMARY:Fête du 1er août avec Conseiller fédéral Guy Parmelin
ORGANIZER:
URL;VALUE=URI:https://www.udc.ch/actualites/agenda/fete-du-1er-aout-avec-conseiller-federal-guy-parmelin/
TRANSP:OPAQUE
END:VEVENT
END:VCALENDAR
