

BEGIN:VCALENDAR
VERSION:2.0
PRODID:-//UDC Suisse //NONSGML Events //EN
CALSCALE:GREGORIAN
X-WR-CALNAME:UDC Suisse
BEGIN:VEVENT
CREATED:20220726T064148Z
UID:98964
DTEND:20220801T200000
DTSTART:20220801T190000
DTSTAMP:20260420T134647Z
LOCATION:6997 Sessa (Comune di Tresa) (TI) 
DESCRIPTION:
SUMMARY:Fête du 1er août avec Conseiller fédéral Guy Parmelin
ORGANIZER:
URL;VALUE=URI:https://www.udc.ch/actualites/agenda/fete-du-1er-aout-avec-conseiller-federal-guy-parmelin-2/
TRANSP:OPAQUE
END:VEVENT
END:VCALENDAR
