

BEGIN:VCALENDAR
VERSION:2.0
PRODID:-//UDC Suisse //NONSGML Events //EN
CALSCALE:GREGORIAN
X-WR-CALNAME:UDC Suisse
BEGIN:VEVENT
CREATED:20220728T065436Z
UID:99010
DTEND:20220731T200000
DTSTART:20220731T193000
DTSTAMP:20260420T213635Z
LOCATION:Lützelflüh
DESCRIPTION:
SUMMARY:Fête du 1er août avec Conseiller national Andreas Aebi
ORGANIZER:
URL;VALUE=URI:https://www.udc.ch/actualites/agenda/fete-du-1er-aout-avec-conseiller-national-andreas-aebi/
TRANSP:OPAQUE
END:VEVENT
END:VCALENDAR
